BEGIN:VCALENDAR
VERSION:2.0
PRODID:-//NM Black History Month - ECPv6.15.20//NONSGML v1.0//EN
CALSCALE:GREGORIAN
METHOD:PUBLISH
X-WR-CALNAME:NM Black History Month
X-ORIGINAL-URL:https://nmblackhistory.nmblc.org
X-WR-CALDESC:Events for NM Black History Month
REFRESH-INTERVAL;VALUE=DURATION:PT1H
X-Robots-Tag:noindex
X-PUBLISHED-TTL:PT1H
BEGIN:VTIMEZONE
TZID:America/Denver
BEGIN:DAYLIGHT
TZOFFSETFROM:-0700
TZOFFSETTO:-0600
TZNAME:MDT
DTSTART:20210314T090000
END:DAYLIGHT
BEGIN:STANDARD
TZOFFSETFROM:-0600
TZOFFSETTO:-0700
TZNAME:MST
DTSTART:20211107T080000
END:STANDARD
BEGIN:DAYLIGHT
TZOFFSETFROM:-0700
TZOFFSETTO:-0600
TZNAME:MDT
DTSTART:20220313T090000
END:DAYLIGHT
BEGIN:STANDARD
TZOFFSETFROM:-0600
TZOFFSETTO:-0700
TZNAME:MST
DTSTART:20221106T080000
END:STANDARD
BEGIN:DAYLIGHT
TZOFFSETFROM:-0700
TZOFFSETTO:-0600
TZNAME:MDT
DTSTART:20230312T090000
END:DAYLIGHT
BEGIN:STANDARD
TZOFFSETFROM:-0600
TZOFFSETTO:-0700
TZNAME:MST
DTSTART:20231105T080000
END:STANDARD
END:VTIMEZONE
BEGIN:VEVENT
DTSTART;TZID=America/Denver:20220402T170000
DTEND;TZID=America/Denver:20220402T210000
DTSTAMP:20260423T121658
CREATED:20220331T173554Z
LAST-MODIFIED:20220331T201818Z
UID:1571-1648918800-1648933200@nmblackhistory.nmblc.org
SUMMARY:1st Annual Healing and Hip-Hop Summit (Hosted by: KK\, Montse\, P-Love\, Soula & marc Boogie Event)
DESCRIPTION: \nWelcome to New Mexico’s 1st Annual Healing & Hip Hop Summit!!!\nThe first annual Healing and Hip Hop Summit is an event designed by a group of local Albuquerque hip hop community members. We began our work by talking about our hip-hop scene and some of the historical issues we and members within our scene have experienced. Our community has suffered a lot of loss due to deep-rooted cyclical community issues; substance abuse\, domestic violence\, chronic health issues\, DUI\, mental health\, and more. We realized that many members of our community could benefit from awareness and resources within the community. Albuquerque has a thriving non-profit community\, so we decided to braid our hip hop and our non-profit scenes together. The result: The Healing and Hip Hop Summit- an event to allow for local dancers to battle for a cause\, and support a non-profit organization. The money raised from the event will go directly to support a non-profit organization in our community. \nWe hope this event will inspire and spark change within the youth in our scene and community. This will hopefully light a path of positive productive community involvement with youth in our community. This event and campaign will allow our group to fund one young person each year with an art scholarship to pursue their artistic dreams and the next steps in their artistic careers. \n \nWhat We Need & What You Get\nWe are looking for supporters that believe in the power of hip hop to heal and uplift people and create space to learn new and healthy ways to live. \n\n$5.00 – $10.00 suggested donation at the door (our donations will support a local Albuquerque non-profit organization)\nA young aspiring artist within the Albuquerque community\nAn event creating awareness and resources for various community issues\n\nThe Impact\nWe hope this is the first of many Healing and Hip Hop Summits for our city. Our contribution will allow for this event to be sustainable for years to come.
URL:https://nmblackhistory.nmblc.org/event/1st-annual-healing-and-hip-hop-summit-hosted-by-kk-montse-p-love-soula-marc-boogie-event/
LOCATION:Warehouse 508\, 508 1st Street NW\, Albuquerque\, NM\, 87102\, United States
ATTACH;FMTTYPE=image/png:https://nmblackhistory.nmblc.org/wp-content/uploads/2022/03/456.png
END:VEVENT
END:VCALENDAR