BEGIN:VCALENDAR
VERSION:2.0
PRODID:-//NM Black History Month - ECPv6.15.20//NONSGML v1.0//EN
CALSCALE:GREGORIAN
METHOD:PUBLISH
X-WR-CALNAME:NM Black History Month
X-ORIGINAL-URL:https://nmblackhistory.nmblc.org
X-WR-CALDESC:Events for NM Black History Month
REFRESH-INTERVAL;VALUE=DURATION:PT1H
X-Robots-Tag:noindex
X-PUBLISHED-TTL:PT1H
BEGIN:VTIMEZONE
TZID:America/Denver
BEGIN:DAYLIGHT
TZOFFSETFROM:-0700
TZOFFSETTO:-0600
TZNAME:MDT
DTSTART:20210314T090000
END:DAYLIGHT
BEGIN:STANDARD
TZOFFSETFROM:-0600
TZOFFSETTO:-0700
TZNAME:MST
DTSTART:20211107T080000
END:STANDARD
BEGIN:DAYLIGHT
TZOFFSETFROM:-0700
TZOFFSETTO:-0600
TZNAME:MDT
DTSTART:20220313T090000
END:DAYLIGHT
BEGIN:STANDARD
TZOFFSETFROM:-0600
TZOFFSETTO:-0700
TZNAME:MST
DTSTART:20221106T080000
END:STANDARD
BEGIN:DAYLIGHT
TZOFFSETFROM:-0700
TZOFFSETTO:-0600
TZNAME:MDT
DTSTART:20230312T090000
END:DAYLIGHT
BEGIN:STANDARD
TZOFFSETFROM:-0600
TZOFFSETTO:-0700
TZNAME:MST
DTSTART:20231105T080000
END:STANDARD
END:VTIMEZONE
BEGIN:VEVENT
DTSTART;TZID=America/Denver:20220227T150000
DTEND;TZID=America/Denver:20220227T170000
DTSTAMP:20260423T054102
CREATED:20220216T210849Z
LAST-MODIFIED:20220224T202743Z
UID:1314-1645974000-1645981200@nmblackhistory.nmblc.org
SUMMARY:2022 Kumbuka Celebration: M4 Michael’s Musings\, Melodies\, and Memories
DESCRIPTION:Kumbuka means “To Remember”…Our beloved community member Michael Herndon – musician extraordinaire\, culinary genius\, husband\, father\, brother\, loyal friend\, mentor\, and Star Wars enthusiast completed his earthly assignment on December 11\, 2021.\nM4 will be a four-dimensional multimedia extravaganza to celebrate Michael\, his musings\, his melodies\, and our memories.  We have limited in-person seating (registration/ticket required and proof of vaccination is needed at the door).  2022 Kumbuka Celebration will also be streamed live for those who cannot physically be in the room where it happens.\nJoin us for a celebration worthy of Michael’s huge impact on our lives here in New Mexico.\nThere’s a veritable Who’s Who of New Mexico’s finest musicians and spoken word artists who will be on hand to celebrate Michael’s life and legacy. To name a few:\nHakim Bellamy\, Hillary Smith\, Gene Corbin\, Kari Simmons Vickerman\, Bert Dalton\, Milo Jaramillo\, Paul Palmer\, Andrew Cooper\, Dimi DiSanti\, Arnaldo Acosta\, Lowell Burton\, Jak Bailey\, Susan Clark\, Rodney Bowe\, Finnie Coleman\, and many others…\nFood\, Music\, and Entertainment Provided!\nCOVID-19 Protocols: \nMask wearing and proof of vaccination are required to attend this event in person. Masks must be worn indoors at all times except when eating and drinking. \n  \nPARKING INFO: \nParking is available on the south side of the building off Silver Ave SE and directly in front of the theater off Central Ave NE. Highland High School has made their parking lot additionally available to us and there is available parking on the streets surrounding the theater. Please refer to the diagram below to see a visual representation of available parking. \n \n 
URL:https://nmblackhistory.nmblc.org/event/2022-kumbuka-celebration-m4-michaels-musings-melodies-and-memories/
LOCATION:The Hiland Theater\, 4800 Central Ave Se\, Albuquerque\, 87108
CATEGORIES:Black History Festival
ATTACH;FMTTYPE=image/png:https://nmblackhistory.nmblc.org/wp-content/uploads/2022/02/EventFeatured-03.png
END:VEVENT
END:VCALENDAR