BEGIN:VCALENDAR
VERSION:2.0
PRODID:-//NM Black History Month - ECPv6.15.20//NONSGML v1.0//EN
CALSCALE:GREGORIAN
METHOD:PUBLISH
X-WR-CALNAME:NM Black History Month
X-ORIGINAL-URL:https://nmblackhistory.nmblc.org
X-WR-CALDESC:Events for NM Black History Month
REFRESH-INTERVAL;VALUE=DURATION:PT1H
X-Robots-Tag:noindex
X-PUBLISHED-TTL:PT1H
BEGIN:VTIMEZONE
TZID:America/Denver
BEGIN:DAYLIGHT
TZOFFSETFROM:-0700
TZOFFSETTO:-0600
TZNAME:MDT
DTSTART:20210314T090000
END:DAYLIGHT
BEGIN:STANDARD
TZOFFSETFROM:-0600
TZOFFSETTO:-0700
TZNAME:MST
DTSTART:20211107T080000
END:STANDARD
BEGIN:DAYLIGHT
TZOFFSETFROM:-0700
TZOFFSETTO:-0600
TZNAME:MDT
DTSTART:20220313T090000
END:DAYLIGHT
BEGIN:STANDARD
TZOFFSETFROM:-0600
TZOFFSETTO:-0700
TZNAME:MST
DTSTART:20221106T080000
END:STANDARD
BEGIN:DAYLIGHT
TZOFFSETFROM:-0700
TZOFFSETTO:-0600
TZNAME:MDT
DTSTART:20230312T090000
END:DAYLIGHT
BEGIN:STANDARD
TZOFFSETFROM:-0600
TZOFFSETTO:-0700
TZNAME:MST
DTSTART:20231105T080000
END:STANDARD
END:VTIMEZONE
BEGIN:VEVENT
DTSTART;TZID=America/Denver:20220607T173000
DTEND;TZID=America/Denver:20220607T190000
DTSTAMP:20260423T114940
CREATED:20220606T142244Z
LAST-MODIFIED:20220606T143204Z
UID:2206-1654623000-1654628400@nmblackhistory.nmblc.org
SUMMARY:2022 NM Black "Thought" Expo Hosted by OAAA & NMPED
DESCRIPTION:FREE Virtual Event\nJune 7\, 2022\n5:30 PM – 7:00 PM\nAll are invited; community members\, educators and parents. Join the conversation on the importance of having Black Student Unions in schools during the New Mexico Black “Thought” Expo.  This will be a discussion among local leaders (Brennan Bowman\, Caia Brown\, and Sonya Lara) and Tiffanie Harrison who is a consultant for schools on racial equity.\n \nWe want to share the opportunity for communities to support and encourage Black Student Unions. Join us in a collective effort to provide our children with what they need to be successful. Please share the registration link and we look forward to hosting you.\n \n 
URL:https://nmblackhistory.nmblc.org/event/2022-nm-black-thought-expo-hosted-by-oaaa-nmped/
CATEGORIES:Community
ATTACH;FMTTYPE=image/png:https://nmblackhistory.nmblc.org/wp-content/uploads/2022/06/unnamed.png
ORGANIZER;CN="New Mexico Office of African American Affairs":MAILTO:amy.whitfield2@state.nm.us
END:VEVENT
END:VCALENDAR