BEGIN:VCALENDAR
VERSION:2.0
PRODID:-//NM Black History Month - ECPv6.15.20//NONSGML v1.0//EN
CALSCALE:GREGORIAN
METHOD:PUBLISH
X-WR-CALNAME:NM Black History Month
X-ORIGINAL-URL:https://nmblackhistory.nmblc.org
X-WR-CALDESC:Events for NM Black History Month
REFRESH-INTERVAL;VALUE=DURATION:PT1H
X-Robots-Tag:noindex
X-PUBLISHED-TTL:PT1H
BEGIN:VTIMEZONE
TZID:America/Denver
BEGIN:DAYLIGHT
TZOFFSETFROM:-0700
TZOFFSETTO:-0600
TZNAME:MDT
DTSTART:20210314T090000
END:DAYLIGHT
BEGIN:STANDARD
TZOFFSETFROM:-0600
TZOFFSETTO:-0700
TZNAME:MST
DTSTART:20211107T080000
END:STANDARD
BEGIN:DAYLIGHT
TZOFFSETFROM:-0700
TZOFFSETTO:-0600
TZNAME:MDT
DTSTART:20220313T090000
END:DAYLIGHT
BEGIN:STANDARD
TZOFFSETFROM:-0600
TZOFFSETTO:-0700
TZNAME:MST
DTSTART:20221106T080000
END:STANDARD
BEGIN:DAYLIGHT
TZOFFSETFROM:-0700
TZOFFSETTO:-0600
TZNAME:MDT
DTSTART:20230312T090000
END:DAYLIGHT
BEGIN:STANDARD
TZOFFSETFROM:-0600
TZOFFSETTO:-0700
TZNAME:MST
DTSTART:20231105T080000
END:STANDARD
END:VTIMEZONE
BEGIN:VEVENT
DTSTART;TZID=America/Denver:20220728T180000
DTEND;TZID=America/Denver:20220728T210000
DTSTAMP:20260423T102006
CREATED:20220726T194617Z
LAST-MODIFIED:20220726T194741Z
UID:2470-1659031200-1659042000@nmblackhistory.nmblc.org
SUMMARY:Cooking Demonstration and Tasting with Chef Ncube of Zimbabwe!!!
DESCRIPTION:Join us for a Cooking Demonstration and Tasting with Chef Ncube of Zimbabwe – A renowned chef\, ambassador of the African Food Revolution\, and food writer.\n  \nThursday\, July 28th\, 2022\n6:00 PM MST\nFirst Unitarian Church\n3701 Carlisle Blvd. NE\nAlbuquerque\, New Mexico 87110\n  \nCheck out a video of Chef Mhlelusizo Ncube’s latest project: Magriza Made Me Cook
URL:https://nmblackhistory.nmblc.org/event/cooking-demonstration-and-tasting-with-chef-ncube-of-zimbabwe/
LOCATION:First Unitarian Church\, 3701 Carlisle Blvd. NE\, Albuquerque\, NM\, 87110\, United States
ATTACH;FMTTYPE=image/jpeg:https://nmblackhistory.nmblc.org/wp-content/uploads/2022/07/unnamed.jpg
ORGANIZER;CN="New Mexico Black Leadership Council":MAILTO:amy.whitfield2@state.nm.us
END:VEVENT
END:VCALENDAR