BEGIN:VCALENDAR
VERSION:2.0
PRODID:-//NM Black History Month - ECPv6.15.20//NONSGML v1.0//EN
CALSCALE:GREGORIAN
METHOD:PUBLISH
X-WR-CALNAME:NM Black History Month
X-ORIGINAL-URL:https://nmblackhistory.nmblc.org
X-WR-CALDESC:Events for NM Black History Month
REFRESH-INTERVAL;VALUE=DURATION:PT1H
X-Robots-Tag:noindex
X-PUBLISHED-TTL:PT1H
BEGIN:VTIMEZONE
TZID:America/Denver
BEGIN:DAYLIGHT
TZOFFSETFROM:-0700
TZOFFSETTO:-0600
TZNAME:MDT
DTSTART:20210314T090000
END:DAYLIGHT
BEGIN:STANDARD
TZOFFSETFROM:-0600
TZOFFSETTO:-0700
TZNAME:MST
DTSTART:20211107T080000
END:STANDARD
BEGIN:DAYLIGHT
TZOFFSETFROM:-0700
TZOFFSETTO:-0600
TZNAME:MDT
DTSTART:20220313T090000
END:DAYLIGHT
BEGIN:STANDARD
TZOFFSETFROM:-0600
TZOFFSETTO:-0700
TZNAME:MST
DTSTART:20221106T080000
END:STANDARD
BEGIN:DAYLIGHT
TZOFFSETFROM:-0700
TZOFFSETTO:-0600
TZNAME:MDT
DTSTART:20230312T090000
END:DAYLIGHT
BEGIN:STANDARD
TZOFFSETFROM:-0600
TZOFFSETTO:-0700
TZNAME:MST
DTSTART:20231105T080000
END:STANDARD
END:VTIMEZONE
BEGIN:VEVENT
DTSTART;TZID=America/Denver:20220402T083000
DTEND;TZID=America/Denver:20220402T143000
DTSTAMP:20260423T145039
CREATED:20220331T200812Z
LAST-MODIFIED:20220331T210211Z
UID:1599-1648888200-1648909800@nmblackhistory.nmblc.org
SUMMARY:Free Tax Preparation Hosted by Albuquerque Community Foundation
DESCRIPTION:With the support of tax professionals from the AARP\, families have the opportunity to receive the Child Tax Credit and Earned Income Tax Credit. Space is limited\, therefore\, an appointment is required. There will be translators On-Site and free lunch will be provided by local food trucks. \n\nThis wonderful event will take place during the first two Saturday’s in April:\nSaturday April 02\, 2022 @ Vizionz-Sankofa – 1258 Ortiz Dr. SE Albuquerque\, NM 87108\nSaturday April 09\, 2022 @ Homewise – 500 2nd St. SW\, Albuquerque\, NM 87102
URL:https://nmblackhistory.nmblc.org/event/free-tax-preparation-hosted-by-albuquerque-community-foundation/
LOCATION:NMBLC Office
ATTACH;FMTTYPE=image/png:https://nmblackhistory.nmblc.org/wp-content/uploads/2022/03/Tax-Prep.png
END:VEVENT
END:VCALENDAR