BEGIN:VCALENDAR
VERSION:2.0
PRODID:-//NM Black History Month - ECPv6.15.20//NONSGML v1.0//EN
CALSCALE:GREGORIAN
METHOD:PUBLISH
X-WR-CALNAME:NM Black History Month
X-ORIGINAL-URL:https://nmblackhistory.nmblc.org
X-WR-CALDESC:Events for NM Black History Month
REFRESH-INTERVAL;VALUE=DURATION:PT1H
X-Robots-Tag:noindex
X-PUBLISHED-TTL:PT1H
BEGIN:VTIMEZONE
TZID:America/Denver
BEGIN:DAYLIGHT
TZOFFSETFROM:-0700
TZOFFSETTO:-0600
TZNAME:MDT
DTSTART:20210314T090000
END:DAYLIGHT
BEGIN:STANDARD
TZOFFSETFROM:-0600
TZOFFSETTO:-0700
TZNAME:MST
DTSTART:20211107T080000
END:STANDARD
BEGIN:DAYLIGHT
TZOFFSETFROM:-0700
TZOFFSETTO:-0600
TZNAME:MDT
DTSTART:20220313T090000
END:DAYLIGHT
BEGIN:STANDARD
TZOFFSETFROM:-0600
TZOFFSETTO:-0700
TZNAME:MST
DTSTART:20221106T080000
END:STANDARD
BEGIN:DAYLIGHT
TZOFFSETFROM:-0700
TZOFFSETTO:-0600
TZNAME:MDT
DTSTART:20230312T090000
END:DAYLIGHT
BEGIN:STANDARD
TZOFFSETFROM:-0600
TZOFFSETTO:-0700
TZNAME:MST
DTSTART:20231105T080000
END:STANDARD
END:VTIMEZONE
BEGIN:VEVENT
DTSTART;TZID=America/Denver:20220618T090000
DTEND;TZID=America/Denver:20220618T133000
DTSTAMP:20260423T101911
CREATED:20220518T145809Z
LAST-MODIFIED:20220518T162026Z
UID:2029-1655542800-1655559000@nmblackhistory.nmblc.org
SUMMARY:HMTech Hosted by Sandia National Laboratories
DESCRIPTION:About HMTech\nSandia National Laboratories Hands-On Minds-On Technologies (HMTech) Summer Science Program is an exciting educational supplement targeting African American middle and high school students. Students of all races and ethnicities are welcome to participate and are encouraged to enroll. Sandia’s Community Involvement and Black Leadership Committee sponsor the program\, which is designed to spark students’ interest in pursuing careers in science\, technology\, math\, and engineering. Various Sandia National Laboratories employees and community members volunteer to develop and teach hands-on classes for the HMTech Summer Science Program.\n \nHANDS-ON MINDS-ON TECHNOLOGIES (HMTech) REGISTRATION IS NOW OPEN!!!\nThis FREE STEM program is open to all rising 6th – 12th graders.\nProgram will be held on June 4th\, 11th\, and 18th from 9:00 am – 1:15 pm.\nUse this link to find out more about the program and register: https://www.sandia.gov/stem/hmtech/.\nPlease pass on the word and share with others. Space is limited.
URL:https://nmblackhistory.nmblc.org/event/hmtech-hosted-by-sandia-national-laboratories-2022-06-18/
LOCATION:Albuquerque High School\, 800 Odelia Rd. NE\, Albuquerque\, NM\, 87102\, United States
CATEGORIES:Community
ATTACH;FMTTYPE=application/pdf:https://nmblackhistory.nmblc.org/wp-content/uploads/2022/05/HMTechFlyer_2022.pdf
END:VEVENT
END:VCALENDAR