BEGIN:VCALENDAR
VERSION:2.0
PRODID:-//NM Black History Month - ECPv6.15.20//NONSGML v1.0//EN
CALSCALE:GREGORIAN
METHOD:PUBLISH
X-WR-CALNAME:NM Black History Month
X-ORIGINAL-URL:https://nmblackhistory.nmblc.org
X-WR-CALDESC:Events for NM Black History Month
REFRESH-INTERVAL;VALUE=DURATION:PT1H
X-Robots-Tag:noindex
X-PUBLISHED-TTL:PT1H
BEGIN:VTIMEZONE
TZID:America/Denver
BEGIN:DAYLIGHT
TZOFFSETFROM:-0700
TZOFFSETTO:-0600
TZNAME:MDT
DTSTART:20210314T090000
END:DAYLIGHT
BEGIN:STANDARD
TZOFFSETFROM:-0600
TZOFFSETTO:-0700
TZNAME:MST
DTSTART:20211107T080000
END:STANDARD
BEGIN:DAYLIGHT
TZOFFSETFROM:-0700
TZOFFSETTO:-0600
TZNAME:MDT
DTSTART:20220313T090000
END:DAYLIGHT
BEGIN:STANDARD
TZOFFSETFROM:-0600
TZOFFSETTO:-0700
TZNAME:MST
DTSTART:20221106T080000
END:STANDARD
BEGIN:DAYLIGHT
TZOFFSETFROM:-0700
TZOFFSETTO:-0600
TZNAME:MDT
DTSTART:20230312T090000
END:DAYLIGHT
BEGIN:STANDARD
TZOFFSETFROM:-0600
TZOFFSETTO:-0700
TZNAME:MST
DTSTART:20231105T080000
END:STANDARD
END:VTIMEZONE
BEGIN:VEVENT
DTSTART;TZID=America/Denver:20220618T180000
DTEND;TZID=America/Denver:20220618T210000
DTSTAMP:20260423T114944
CREATED:20220615T190810Z
LAST-MODIFIED:20220615T190810Z
UID:2256-1655575200-1655586000@nmblackhistory.nmblc.org
SUMMARY:Juneteenth Banquet Hosted by Dona Ana NAACP
DESCRIPTION:Be a part of this year’s Juneteenth Banquet!\n  \n6 PM on Saturday June 18\, 2022\nLas Cruces Convention Center\n680 E. University Ave.\nLas Cruces\, New Mexico 88001\n  \nKeynote Speaker: Dr. Patrick Turner\nNMSU Associate Provost\n \nTickets are $50.00 per person\n  \n 
URL:https://nmblackhistory.nmblc.org/event/juneteenth-banquet-hosted-by-dona-ana-naacp/
LOCATION:Las Cruces Convention Center\, 680 E. University Ave.\, Las Cruces\, NM\, 88001\, United States
CATEGORIES:Community
ATTACH;FMTTYPE=image/png:https://nmblackhistory.nmblc.org/wp-content/uploads/2022/06/Juneteenth-Banquet.png
ORGANIZER;CN="Dona Ana County NAACP":MAILTO:info@naacpdac.org
END:VEVENT
END:VCALENDAR