BEGIN:VCALENDAR
VERSION:2.0
PRODID:-//NM Black History Month - ECPv6.15.20//NONSGML v1.0//EN
CALSCALE:GREGORIAN
METHOD:PUBLISH
X-WR-CALNAME:NM Black History Month
X-ORIGINAL-URL:https://nmblackhistory.nmblc.org
X-WR-CALDESC:Events for NM Black History Month
REFRESH-INTERVAL;VALUE=DURATION:PT1H
X-Robots-Tag:noindex
X-PUBLISHED-TTL:PT1H
BEGIN:VTIMEZONE
TZID:America/Denver
BEGIN:DAYLIGHT
TZOFFSETFROM:-0700
TZOFFSETTO:-0600
TZNAME:MDT
DTSTART:20210314T090000
END:DAYLIGHT
BEGIN:STANDARD
TZOFFSETFROM:-0600
TZOFFSETTO:-0700
TZNAME:MST
DTSTART:20211107T080000
END:STANDARD
BEGIN:DAYLIGHT
TZOFFSETFROM:-0700
TZOFFSETTO:-0600
TZNAME:MDT
DTSTART:20220313T090000
END:DAYLIGHT
BEGIN:STANDARD
TZOFFSETFROM:-0600
TZOFFSETTO:-0700
TZNAME:MST
DTSTART:20221106T080000
END:STANDARD
BEGIN:DAYLIGHT
TZOFFSETFROM:-0700
TZOFFSETTO:-0600
TZNAME:MDT
DTSTART:20230312T090000
END:DAYLIGHT
BEGIN:STANDARD
TZOFFSETFROM:-0600
TZOFFSETTO:-0700
TZNAME:MST
DTSTART:20231105T080000
END:STANDARD
END:VTIMEZONE
BEGIN:VEVENT
DTSTART;TZID=America/Denver:20220617T173000
DTEND;TZID=America/Denver:20220617T203000
DTSTAMP:20260423T114924
CREATED:20220519T175646Z
LAST-MODIFIED:20220519T175646Z
UID:2166-1655487000-1655497800@nmblackhistory.nmblc.org
SUMMARY:Juneteenth Freedom Day at Campus Park Hosted by NAACP
DESCRIPTION:Juneteenth Freedom Day Event at Campus Park\n\n\n\n\n\n\n\nJoin the City of Rio Rancho and the NAACP Rio Rancho Northwest Mesa Branch for Rio Rancho’s inaugural JUNETEENTH FREEDOME DAY CELERBATION! Admission is FREE! \nFriday\, June 17TH\, 2022\n5:30 p.m. to 8:30 p.m.\nCampus Park at City Center\n(2516 King Blvd. NE Rio Rancho\, NM 87144)\nThis event is free to the public and will feature food\, activities\, live music\, and a beer garden. There will also be vendor booths and community services booths on hand for event attendees to purchase goods and receive information about healthcare and other community/social services. \nAdditional Information\nThe event is subject to weather\, and may be canceled due to such conditions as rain\, wind\, lightning\, or public health orders. Admission is free. Parking and park seating space is available on a first come\, first served basis. Blankets\, umbrellas\, and coolers are permitted. Food vendors will be on-site. No glass\, outside alcoholic beverages\, or individual grills will be allowed. Live music starts at 5:30 p.m. Visitors can access City Center via Unser Boulevard/King Boulevard and Paseo del Volcan/Broadmoor Boulevard. \nJuneteenth commemorates June 19\, 1865\, when Major General Gordon Granger issued General’s Orders Number 3 in Galveston\, Texas to ensure that all enslaved people would be freed. Despite the Emancipation Proclamation being signed two and a half years earlier\, Black people were still being held as slaves in Texas. Following the Civil War\, the Union Army was sent to ensure that all people\, in every state\, would be free. Communities throughout the United States have continued to celebrate Juneteenth. Texas became the first state to name Juneteenth as an official holiday in 1979 and on June 17\, 2021\, Juneteenth National Independence Day was made a federal holiday.
URL:https://nmblackhistory.nmblc.org/event/juneteenth-freedom-day-at-campus-park-hosted-by-naacp/
LOCATION:Campus Park\, 2516 King Blvd. NE\, Rio Rancho\, NM\, 87144\, United States
CATEGORIES:Community
ATTACH;FMTTYPE=image/png:https://nmblackhistory.nmblc.org/wp-content/uploads/2022/05/Juneteenth-Pic.png
ORGANIZER;CN="Rio Rancho Northwest Mesa NAACP":MAILTO:6108President@gmail.com
END:VEVENT
END:VCALENDAR