BEGIN:VCALENDAR
VERSION:2.0
PRODID:-//NM Black History Month - ECPv6.15.20//NONSGML v1.0//EN
CALSCALE:GREGORIAN
METHOD:PUBLISH
X-WR-CALNAME:NM Black History Month
X-ORIGINAL-URL:https://nmblackhistory.nmblc.org
X-WR-CALDESC:Events for NM Black History Month
REFRESH-INTERVAL;VALUE=DURATION:PT1H
X-Robots-Tag:noindex
X-PUBLISHED-TTL:PT1H
BEGIN:VTIMEZONE
TZID:America/Denver
BEGIN:DAYLIGHT
TZOFFSETFROM:-0700
TZOFFSETTO:-0600
TZNAME:MDT
DTSTART:20210314T090000
END:DAYLIGHT
BEGIN:STANDARD
TZOFFSETFROM:-0600
TZOFFSETTO:-0700
TZNAME:MST
DTSTART:20211107T080000
END:STANDARD
BEGIN:DAYLIGHT
TZOFFSETFROM:-0700
TZOFFSETTO:-0600
TZNAME:MDT
DTSTART:20220313T090000
END:DAYLIGHT
BEGIN:STANDARD
TZOFFSETFROM:-0600
TZOFFSETTO:-0700
TZNAME:MST
DTSTART:20221106T080000
END:STANDARD
BEGIN:DAYLIGHT
TZOFFSETFROM:-0700
TZOFFSETTO:-0600
TZNAME:MDT
DTSTART:20230312T090000
END:DAYLIGHT
BEGIN:STANDARD
TZOFFSETFROM:-0600
TZOFFSETTO:-0700
TZNAME:MST
DTSTART:20231105T080000
END:STANDARD
END:VTIMEZONE
BEGIN:VEVENT
DTSTART;TZID=America/Denver:20220618T110000
DTEND;TZID=America/Denver:20220618T180000
DTSTAMP:20260423T115012
CREATED:20220616T210834Z
LAST-MODIFIED:20220616T214118Z
UID:2298-1655550000-1655575200@nmblackhistory.nmblc.org
SUMMARY:Juneteenth Jazz Arts Festival Hosted by The Branigan Cultural Center\, the Dona Ana County NAACP and Arts Council
DESCRIPTION:FREE – Juneteenth Jazz Arts Festival!\nNo Registration Necessary\nTuesday June 14 – Sunday June 19\, 2022\n  \nFestival organizer and NM Music Commissioner\, Derrick Lee\, describes the festival as a way\, “to celebrate\, educate\, and create both community and awareness around this now newly and officially recognized National Holiday – which is one of America’s oldest. We do this through the Black American Music (America’s Classical Music) widely known as Jazz. This music is rooted in the traditions of improvisational expression\, storytelling\, and community\, and has a rich history that has shaped our nation. This music is alive\, and as it evolves\, it continues to evolve us. Jazz history is Black history. Jazz History is American history.”\n\n2022 Juneteenth Jazz Arts Festival Schedule\n\n\n\n\n\n\n\n\nTuesday\n\n\nWednesday\n\n\nThursday\n\n\n\n\nJune 14\n\n\nJune15\n\n\nJune 16\n\n\n\n\nWhere: Rio Grande Theater (211 N. Main St. Las Cruces\, NM 88001)\n\n\n5:30PM – Virtual Presentation: “The History of Juneteenth as an American Celebration of Freedom” by Roy Collins II\, NMSU General Counsel and Chief Legal Officer followed by a virtual concert from Reggie Lewis and Simply Quartet.\n\n\n5:30PM – Virtual Presentation: “Jazz History is Black History” by James Zimmerman\, Smithsonian Institution followed by a virtual concert from Joe Dunn Chamber Fusion Ensemble\n\n\n\n\nZoom.us webinar ID: 82056965925\n\n\n\n\n5:15PM – Virtual Concert by Jacobo Vega-Albela Group\n\n\n\n\n7:00PM – Showing of “Bird” (Doors open 6PM)\n\n\nZoom.us webinar ID: 82056965925\n\n\nZoom.us webinar ID: 82056965925\n\n\n\n\n\n\n\n\n\n\n\n\nFriday\n\n\nSaturday\n\n\nSunday\n\n\n\n\nJune 17\n\n\nJune 18\n\n\nJune 19\n\n\n\n\nWhere: Dona Ana Arts council (250 W Amador Ave\, Las Cruces\, NM 88005)\n\n\nWhere: Rio Grande Theater (211 N. Main St. Las Cruces\, NM 88001)\n\n\nJazz Art Festival Performances\n\n\n\n\n4:00PM – Jazz Improvisation Workshop by Derrick Lee\, jazz musician\n\n\n11:00AM – Doors Open\n\n\nWhere: Plaza de Las Cruces Stage (100 N Main St\, Las Cruces\, NM 88001)\n\n\n\n\nWhere: Rio Grande Theater (211 N. Main St. Las Cruces\, NM 88001)\n\n\n12:00PM – Showing of Disney Pixar’s “Soul”\n\n\n1:00PM – Joe Seltzer Group\n\n\n\n\n6:00PM – Opening Concert (doors open)\n\n\nJazz Arts Festival Performances\n\n\n2:30PM – Unconfirmed Group\n\n\n\n\n7:00PM – Billy Townes Group\n\n\nWhere: Plaza de Las Cruces Stage (100 N Main St\, Las Cruces\, NM 88001)\n\n\n4:00PM – Alliance Project\n\n\n\n\n1:00PM – Coolside Collective\n\n\nClosing Concert\n\n\n\n\n2:30PM – Dave Borrego Trio\n\n\nWhere: Rio Grande Theater (211 N. Main St. Las Cruces\, NM 88001)\n\n\n\n\n4:00PM – David Rodriguez Quintet\n\n\n6:00PM – Doors Open\n\n\n\n\nWhere: Las Cruces Convention Center (680 E University Ave\, Las Cruces\, NM 88001)\n\n\n7:00PM – Ricky Malachi Trio\n\n\n\n\n6:00PM – NAACP Juneteenth Banquet\n\n\n8:00PM – Derrick Lee Group\n\n\n\n\n*Advance Ticket Purchase Required*:
URL:https://nmblackhistory.nmblc.org/event/juneteenth-jazz-arts-festival-hosted-by-the-branigan-cultural-center-the-dona-ana-county-naacp-and-arts-council-2022-06-18/
LOCATION:Rio Grande Theatre\, 211 N. Main St.\, Las Cruces\, NM\, 88001\, United States
CATEGORIES:Community
ATTACH;FMTTYPE=image/png:https://nmblackhistory.nmblc.org/wp-content/uploads/2022/06/Juneteenth-Jazz-Arts-Festival.png
END:VEVENT
END:VCALENDAR