BEGIN:VCALENDAR
VERSION:2.0
PRODID:-//NM Black History Month - ECPv6.15.20//NONSGML v1.0//EN
CALSCALE:GREGORIAN
METHOD:PUBLISH
X-WR-CALNAME:NM Black History Month
X-ORIGINAL-URL:https://nmblackhistory.nmblc.org
X-WR-CALDESC:Events for NM Black History Month
REFRESH-INTERVAL;VALUE=DURATION:PT1H
X-Robots-Tag:noindex
X-PUBLISHED-TTL:PT1H
BEGIN:VTIMEZONE
TZID:America/Denver
BEGIN:DAYLIGHT
TZOFFSETFROM:-0700
TZOFFSETTO:-0600
TZNAME:MDT
DTSTART:20210314T090000
END:DAYLIGHT
BEGIN:STANDARD
TZOFFSETFROM:-0600
TZOFFSETTO:-0700
TZNAME:MST
DTSTART:20211107T080000
END:STANDARD
BEGIN:DAYLIGHT
TZOFFSETFROM:-0700
TZOFFSETTO:-0600
TZNAME:MDT
DTSTART:20220313T090000
END:DAYLIGHT
BEGIN:STANDARD
TZOFFSETFROM:-0600
TZOFFSETTO:-0700
TZNAME:MST
DTSTART:20221106T080000
END:STANDARD
BEGIN:DAYLIGHT
TZOFFSETFROM:-0700
TZOFFSETTO:-0600
TZNAME:MDT
DTSTART:20230312T090000
END:DAYLIGHT
BEGIN:STANDARD
TZOFFSETFROM:-0600
TZOFFSETTO:-0700
TZNAME:MST
DTSTART:20231105T080000
END:STANDARD
END:VTIMEZONE
BEGIN:VEVENT
DTSTART;TZID=America/Denver:20220619T150000
DTEND;TZID=America/Denver:20220619T200000
DTSTAMP:20260423T131510
CREATED:20220504T160744Z
LAST-MODIFIED:20220504T160744Z
UID:2242-1655650800-1655668800@nmblackhistory.nmblc.org
SUMMARY:New Mexico Juneteenth Hosted by Albuquerque\, New Mexico
DESCRIPTION:Come out and celebrate JUNETEENTH with the City of Albuquerque\, New Mexico June 18th – June 19th! There will be Vendors\, Soul Food\, Local & International Performers as well as Community Music (Click Here).\n         \n  \nIf you love community events like this\, please show your Support. Click on the image below\, and you will be redirected to a Donation page.
URL:https://nmblackhistory.nmblc.org/event/new-mexico-juneteenth-hosted-by-albuquerque-new-mexico-2022-06-19/
LOCATION:Civic Plaza\, 1 Civic Plaza\, Albuquerque\, NM\, 87102\, United States
CATEGORIES:Black History Festival,Community,New Mexico Black History Organizing Committee
ATTACH;FMTTYPE=image/png:https://nmblackhistory.nmblc.org/wp-content/uploads/2022/05/Juneteenth.png
END:VEVENT
END:VCALENDAR