BEGIN:VCALENDAR
VERSION:2.0
PRODID:-//NM Black History Month - ECPv6.15.20//NONSGML v1.0//EN
CALSCALE:GREGORIAN
METHOD:PUBLISH
X-WR-CALNAME:NM Black History Month
X-ORIGINAL-URL:https://nmblackhistory.nmblc.org
X-WR-CALDESC:Events for NM Black History Month
REFRESH-INTERVAL;VALUE=DURATION:PT1H
X-Robots-Tag:noindex
X-PUBLISHED-TTL:PT1H
BEGIN:VTIMEZONE
TZID:America/Denver
BEGIN:DAYLIGHT
TZOFFSETFROM:-0700
TZOFFSETTO:-0600
TZNAME:MDT
DTSTART:20210314T090000
END:DAYLIGHT
BEGIN:STANDARD
TZOFFSETFROM:-0600
TZOFFSETTO:-0700
TZNAME:MST
DTSTART:20211107T080000
END:STANDARD
BEGIN:DAYLIGHT
TZOFFSETFROM:-0700
TZOFFSETTO:-0600
TZNAME:MDT
DTSTART:20220313T090000
END:DAYLIGHT
BEGIN:STANDARD
TZOFFSETFROM:-0600
TZOFFSETTO:-0700
TZNAME:MST
DTSTART:20221106T080000
END:STANDARD
BEGIN:DAYLIGHT
TZOFFSETFROM:-0700
TZOFFSETTO:-0600
TZNAME:MDT
DTSTART:20230312T090000
END:DAYLIGHT
BEGIN:STANDARD
TZOFFSETFROM:-0600
TZOFFSETTO:-0700
TZNAME:MST
DTSTART:20231105T080000
END:STANDARD
END:VTIMEZONE
BEGIN:VEVENT
DTSTART;TZID=America/Denver:20220727T090000
DTEND;TZID=America/Denver:20220813T153000
DTSTAMP:20260423T114943
CREATED:20220216T210825Z
LAST-MODIFIED:20220523T192857Z
UID:2100-1658912400-1660404600@nmblackhistory.nmblc.org
SUMMARY:Roots Summer Leadership Academy
DESCRIPTION:Registration Deadline: JUNE 30\n  \nCALLING ALL CHILDREN 8 – 16 YEARS OLD!\nREGISTER TO ATTEND THE ROOTS SUMMER LEADERSHIP ACADEMY\nTHREE WEEKS OF ENRICHING & FUN-FILLED ACTIVITIES!\n\nJuly 11 – July 28\, 2022\n 9:00 AM to 4:00 PM each day\nFirst Unitarian Church\, 3701 Carlisle Blvd NE\, Albuquerque\, NM 87110\n\nCalling all youth ages 8 – 16 years to attend the Roots Summer Leadership Academy! 2022 marks the camp’s 10th year and we want all community members to be a part of the celebration. With comprehensive programming offered by the New Mexico Black Leadership Council\, the camp utilizes visual arts\, movement\, voice\, and drama to teach STEAM principles in a culturally-enriching environment\, while also instilling in the youth pivotal social-emotional learning concepts to ensure they thrive in everything they do. \n \nThe camp will be run from July 11 through July 28\, 2022\, with camp programming from 9 AM to 4 PM. \nBefore care: 7:30 AM – 9:00 AM\nAfter Care: 4:00 PM – 5:30 PM\n \nEach year\, the Roots camp has embraced a theme. We are happy to share with you all this year’s theme: SAWUBONA\, which means “I SEE YOU SEEING ME” in traditional Zulu culture. Every discipline covered in the camp utilizes this theme to create the curriculum. Learn more about Sawubona \n\nLastly\, the youth who participate will have the opportunity to perform in the culminating capstone program\, The Harambee Celebration. This presentation will allow all youth in the program to demonstrate the skills developed in the camp in a grand performance held right at the First Unitarian Church.\n\nSEE WHAT LAST YEAR’S PARTICIPANTS ARE SAYING: \n\n\n\n\nRegistration Deadline: JUNE 30
URL:https://nmblackhistory.nmblc.org/event/roots-summer-leadership-academy-2022-07-27/
LOCATION:First Unitarian Church\, 3701 Carlisle Blvd. NE\, Albuquerque\, NM\, 87110\, United States
CATEGORIES:Black History Festival,Community,New Mexico Black Leadership Council
ATTACH;FMTTYPE=image/png:https://nmblackhistory.nmblc.org/wp-content/uploads/2022/02/2021-Roots-flyer.png
END:VEVENT
END:VCALENDAR