BEGIN:VCALENDAR
VERSION:2.0
PRODID:-//NM Black History Month - ECPv6.15.20//NONSGML v1.0//EN
CALSCALE:GREGORIAN
METHOD:PUBLISH
X-WR-CALNAME:NM Black History Month
X-ORIGINAL-URL:https://nmblackhistory.nmblc.org
X-WR-CALDESC:Events for NM Black History Month
REFRESH-INTERVAL;VALUE=DURATION:PT1H
X-Robots-Tag:noindex
X-PUBLISHED-TTL:PT1H
BEGIN:VTIMEZONE
TZID:America/Denver
BEGIN:DAYLIGHT
TZOFFSETFROM:-0700
TZOFFSETTO:-0600
TZNAME:MDT
DTSTART:20210314T090000
END:DAYLIGHT
BEGIN:STANDARD
TZOFFSETFROM:-0600
TZOFFSETTO:-0700
TZNAME:MST
DTSTART:20211107T080000
END:STANDARD
BEGIN:DAYLIGHT
TZOFFSETFROM:-0700
TZOFFSETTO:-0600
TZNAME:MDT
DTSTART:20220313T090000
END:DAYLIGHT
BEGIN:STANDARD
TZOFFSETFROM:-0600
TZOFFSETTO:-0700
TZNAME:MST
DTSTART:20221106T080000
END:STANDARD
BEGIN:DAYLIGHT
TZOFFSETFROM:-0700
TZOFFSETTO:-0600
TZNAME:MDT
DTSTART:20230312T090000
END:DAYLIGHT
BEGIN:STANDARD
TZOFFSETFROM:-0600
TZOFFSETTO:-0700
TZNAME:MST
DTSTART:20231105T080000
END:STANDARD
END:VTIMEZONE
BEGIN:VEVENT
DTSTART;TZID=America/Denver:20220409T130000
DTEND;TZID=America/Denver:20220409T150000
DTSTAMP:20260423T105242
CREATED:20220331T210916Z
LAST-MODIFIED:20220331T211130Z
UID:1614-1649509200-1649516400@nmblackhistory.nmblc.org
SUMMARY:RR NAACP 2022 Courtyard Calcutta Hosted By Rio Rancho Northwest Mesa Branch NAACP
DESCRIPTION:This major 2022 Fundraiser will feature live music by amazing artists such as Rodney Bowe\, Toni Morgan\, and Tracy Whitney! There will be dancing\, food\, drink\, and a raffle! Dress to impress and wear your most outrageous/gorgeous hat to be eligible for a prize. Wax your moustache\, put on false eyelashes\, or dress up in that new outfit that hasn’t made it out of the closet yet. There will be prizes for the daring so wear something OUTRAGEOUS! \n \nThere will be prizes for Best Dressed Man and Woman and Best Hat. The Grand Calcutta prize is $1000 cash (you must be present to win and Executive Committee members are ineligible to win the Grand Prize). You may buy Tickets ($20.00) or leave a donation online. The venue will be both inside and outside (weather permitting). For adults only. \n \n 
URL:https://nmblackhistory.nmblc.org/event/rr-naacp-2022-courtyard-calcutta-hosted-by-rio-rancho-northwest-mesa-branch-naacp/
LOCATION:1305 Rio Grande Blvd NW\, Albuquerque\, NM 87104\, 1305 Rio Grande Blvd NW\, Albuquerque\, CA\, 87104\, United States
ATTACH;FMTTYPE=application/pdf:https://nmblackhistory.nmblc.org/wp-content/uploads/2022/03/NAACP-Calcutta-mailer-V6.pdf
ORGANIZER;CN="Rio Rancho Northwest Mesa NAACP":MAILTO:6108President@gmail.com
END:VEVENT
END:VCALENDAR