BEGIN:VCALENDAR
VERSION:2.0
PRODID:-//NM Black History Month - ECPv6.15.20//NONSGML v1.0//EN
CALSCALE:GREGORIAN
METHOD:PUBLISH
X-WR-CALNAME:NM Black History Month
X-ORIGINAL-URL:https://nmblackhistory.nmblc.org
X-WR-CALDESC:Events for NM Black History Month
REFRESH-INTERVAL;VALUE=DURATION:PT1H
X-Robots-Tag:noindex
X-PUBLISHED-TTL:PT1H
BEGIN:VTIMEZONE
TZID:America/Denver
BEGIN:DAYLIGHT
TZOFFSETFROM:-0700
TZOFFSETTO:-0600
TZNAME:MDT
DTSTART:20210314T090000
END:DAYLIGHT
BEGIN:STANDARD
TZOFFSETFROM:-0600
TZOFFSETTO:-0700
TZNAME:MST
DTSTART:20211107T080000
END:STANDARD
BEGIN:DAYLIGHT
TZOFFSETFROM:-0700
TZOFFSETTO:-0600
TZNAME:MDT
DTSTART:20220313T090000
END:DAYLIGHT
BEGIN:STANDARD
TZOFFSETFROM:-0600
TZOFFSETTO:-0700
TZNAME:MST
DTSTART:20221106T080000
END:STANDARD
BEGIN:DAYLIGHT
TZOFFSETFROM:-0700
TZOFFSETTO:-0600
TZNAME:MDT
DTSTART:20230312T090000
END:DAYLIGHT
BEGIN:STANDARD
TZOFFSETFROM:-0600
TZOFFSETTO:-0700
TZNAME:MST
DTSTART:20231105T080000
END:STANDARD
END:VTIMEZONE
BEGIN:VEVENT
DTSTART;TZID=America/Denver:20220226T120000
DTEND;TZID=America/Denver:20220226T120000
DTSTAMP:20260423T084359
CREATED:20220225T000525Z
LAST-MODIFIED:20220225T000525Z
UID:1492-1645876800-1645876800@nmblackhistory.nmblc.org
SUMMARY:We Come From Strong People: A Chat with Karen Collins | Hosted by The University of New Mexico and Maxwell Museum of Anthropology
DESCRIPTION:Join Founder and Executive Director of the African American Miniature Museum\, Karen Collins\, for a discussion on Black origins in honor of Black History Month.\nFor decades\, artist and educator Karen Collins has been creating historical dioramas and sharing them to bring clarity and vibrance in the telling of Black history. Join us in this online event to learn about her African American Miniature Museum and artistic process. You’ll also have a chance to ask questions and learn about key historical events and people.\nKaren is a self-taught “miniaturist” — a creator of small objects — who for the last 24 years has honed her craft in her home studio located in Compton\, California. She will be joining us via Zoom from her home\, where she will be surrounded by many of her artworks and will select a few to present and teach through them. The event is family-friendly as Karen specializes in teaching schoolchildren K-12.
URL:https://nmblackhistory.nmblc.org/event/we-come-from-strong-people-a-chat-with-karen-collins-hosted-by-the-university-of-new-mexico-and-maxwell-museum-of-anthropology/
LOCATION:Virtual
CATEGORIES:Black History Festival,Community
ATTACH;FMTTYPE=image/jpeg:https://nmblackhistory.nmblc.org/wp-content/uploads/2022/02/unnamed.jpeg
ORGANIZER;CN="UNM - Maxwell Museum of Anthropology":MAILTO:maxwell@unm.edu
END:VEVENT
END:VCALENDAR