BEGIN:VCALENDAR
VERSION:2.0
PRODID:-//NM Black History Month - ECPv6.15.20//NONSGML v1.0//EN
CALSCALE:GREGORIAN
METHOD:PUBLISH
X-WR-CALNAME:NM Black History Month
X-ORIGINAL-URL:https://nmblackhistory.nmblc.org
X-WR-CALDESC:Events for NM Black History Month
REFRESH-INTERVAL;VALUE=DURATION:PT1H
X-Robots-Tag:noindex
X-PUBLISHED-TTL:PT1H
BEGIN:VTIMEZONE
TZID:America/Denver
BEGIN:DAYLIGHT
TZOFFSETFROM:-0700
TZOFFSETTO:-0600
TZNAME:MDT
DTSTART:20210314T090000
END:DAYLIGHT
BEGIN:STANDARD
TZOFFSETFROM:-0600
TZOFFSETTO:-0700
TZNAME:MST
DTSTART:20211107T080000
END:STANDARD
BEGIN:DAYLIGHT
TZOFFSETFROM:-0700
TZOFFSETTO:-0600
TZNAME:MDT
DTSTART:20220313T090000
END:DAYLIGHT
BEGIN:STANDARD
TZOFFSETFROM:-0600
TZOFFSETTO:-0700
TZNAME:MST
DTSTART:20221106T080000
END:STANDARD
BEGIN:DAYLIGHT
TZOFFSETFROM:-0700
TZOFFSETTO:-0600
TZNAME:MDT
DTSTART:20230312T090000
END:DAYLIGHT
BEGIN:STANDARD
TZOFFSETFROM:-0600
TZOFFSETTO:-0700
TZNAME:MST
DTSTART:20231105T080000
END:STANDARD
END:VTIMEZONE
BEGIN:VEVENT
DTSTART;TZID=America/Denver:20220530T073000
DTEND;TZID=America/Denver:20220530T140000
DTSTAMP:20260423T131505
CREATED:20220427T190654Z
LAST-MODIFIED:20220427T190654Z
UID:1721-1653895800-1653919200@nmblackhistory.nmblc.org
SUMMARY:Wellness Fair & Costume Contest Hosted by New Mexico African American Tobacco Prevention Network
DESCRIPTION:Come and join us for the NMAATP’s first Annual Memorial Day Walk/Run and Costume Contest at Tin Can Alley! You’re invited and feel free to bring a team of 5 for more to enter as a group. The Walk/Run starts at 7:30am on Memorial Day May 30th and the Wellness Fair starts at 11:30am. There will also be a Costume Contest so don’t forget to Dress Up!
URL:https://nmblackhistory.nmblc.org/event/wellness-fair-costume-contest-hosted-by-new-mexico-african-american-tobacco-prevention-network/
LOCATION:Tin Can Alley\, 6110 alameda NE\, Albuquerque\, NM\, 87113\, United States
CATEGORIES:Community
ATTACH;FMTTYPE=image/jpeg:https://nmblackhistory.nmblc.org/wp-content/uploads/2022/04/freetobemejpg-thepaper-scaled.jpg
ORGANIZER;CN="New Mexico African American Tobacco Prevention Network":MAILTO:info@nmaatp.com
END:VEVENT
END:VCALENDAR